BEGIN:VCALENDAR
PRODID: -//CFLIB.ORG//iCalUS()//EN
VERSION:2.0
BEGIN:VTIMEZONE
TZID:Eastern Time
BEGIN:STANDARD
DTSTART:20061101T020000
RRULE:FREQ=YEARLY;INTERVAL=1;BYDAY=1SU;BYMONTH=11
TZOFFSETFROM:-0400
TZOFFSETTO:-0500
TZNAME:Standard Time
END:STANDARD
BEGIN:DAYLIGHT
DTSTART:20060301T020000
RRULE:FREQ=YEARLY;INTERVAL=1;BYDAY=2SU;BYMONTH=3
TZOFFSETFROM:-0500
TZOFFSETTO:-0400
TZNAME:Daylight Savings Time
END:DAYLIGHT
END:VTIMEZONE
BEGIN:VEVENT
UID:1776922677279.senate.gov
DTSTAMP:20260423T053757
DTSTART;TZID=Eastern Time:20260428T100000
DTEND;TZID=Eastern Time:20260428T120000
SUMMARY:Subcommittee Hearing on “Review of the Coast Guard’s Fiscal Year 2027 Budget Request.”
LOCATION:2167 Rayburn House Office Building
URL:https://democrats-transportation.house.gov/committee-activity/hearings/subcommittee-hearing-on-review-of-the-coast-guards-fiscal-year-2027-budget-request
PRIORITY:1
TRANSP:OPAQUE
CLASS:PUBLIC
BEGIN:VALARM
TRIGGER:-PT30M
ACTION:DISPLAY
DESCRIPTION:Reminder
END:VALARM
END:VEVENT
END:VCALENDAR